BEGIN:VCALENDAR
VERSION:2.0
PRODID:-//AudioTheme 2.3.8
BEGIN:VEVENT
UID:urn:uuid:c1521f47-aaa2-48fb-9363-fde7caf255e2
URL:https://ignatiusreilly.com/shows/the-woodcellar-2/
DTSTART;TZID=GMT:20250504T200000
SUMMARY:The Woodcellar
DESCRIPTION:6th Annual Woodcellar Smoke Out  Ignatius Reilly 4:00-7:00 pm  Damon Wood 2:00-3:30 pm
LOCATION:The Woodcellar Bar & Grill\, 1552 Bergen Parkway\, Evergreen\, CO\, United States\, 80439
END:VEVENT
END:VCALENDAR
