BEGIN:VCALENDAR
VERSION:2.0
PRODID:-//AudioTheme 2.3.8
BEGIN:VEVENT
UID:urn:uuid:55b99764-2ea8-4b1f-9338-94f3cd1da812
URL:https://ignatiusreilly.com/shows/fishers-bar/
DTSTART;TZID=GMT:20250308T010000
SUMMARY:Fisher's Bar
DESCRIPTION:Ignatius Reilly - 6:00-9:00 pm
LOCATION:Fisher´s Bar\, 401 Zerex Street\, Fraser\, CO\, United States\, 80442
END:VEVENT
END:VCALENDAR
